Package: scBFA Version: 1.18.0 Command: /Library/Frameworks/R.framework/Resources/bin/R CMD build --keep-empty-dirs --no-resave-data scBFA StartedAt: 2024-06-10 04:05:06 -0400 (Mon, 10 Jun 2024) EndedAt: 2024-06-10 04:08:08 -0400 (Mon, 10 Jun 2024) EllapsedTime: 182.0 seconds RetCode: 0 Status: OK PackageFile: scBFA_1.18.0.tar.gz PackageFileSize: 1.212 MiB