Package: scBFA Version: 1.18.0 Command: /Library/Frameworks/R.framework/Resources/bin/R CMD check --install=check:scBFA.install-out.txt --library=/Library/Frameworks/R.framework/Resources/library --no-vignettes --timings scBFA_1.18.0.tar.gz StartedAt: 2024-06-11 04:20:02 -0400 (Tue, 11 Jun 2024) EndedAt: 2024-06-11 04:30:20 -0400 (Tue, 11 Jun 2024) EllapsedTime: 617.2 seconds RetCode: 0 Status: OK CheckDir: scBFA.Rcheck Warnings: 0