Package: scBFA Version: 1.18.0 Command: rm -rf scBFA.buildbin-libdir && mkdir scBFA.buildbin-libdir && /Users/biocbuild/BBS/utils/build-universal.sh scBFA_1.18.0.tar.gz /Library/Frameworks/R.framework/Resources/bin/R scBFA.buildbin-libdir StartedAt: 2024-10-17 17:06:36 -0400 (Thu, 17 Oct 2024) EndedAt: 2024-10-17 17:08:27 -0400 (Thu, 17 Oct 2024) EllapsedTime: 111.3 seconds RetCode: 0 Status: OK PackageFile: scBFA_1.18.0.tgz PackageFileSize: 1.28 MiB