Package: scClassify Version: 1.16.0 Command: rm -rf scClassify.buildbin-libdir && mkdir scClassify.buildbin-libdir && /Users/biocbuild/BBS/utils/build-universal.sh scClassify_1.16.0.tar.gz /Library/Frameworks/R.framework/Resources/bin/R scClassify.buildbin-libdir StartedAt: 2024-10-15 20:07:33 -0400 (Tue, 15 Oct 2024) EndedAt: 2024-10-15 20:08:24 -0400 (Tue, 15 Oct 2024) EllapsedTime: 51.1 seconds RetCode: 0 Status: OK PackageFile: scClassify_1.16.0.tgz PackageFileSize: 3.333 MiB