Package: scDD Version: 1.28.0 Command: rm -rf scDD.buildbin-libdir && mkdir scDD.buildbin-libdir && /Users/biocbuild/BBS/utils/build-universal.sh scDD_1.28.0.tar.gz /Library/Frameworks/R.framework/Resources/bin/R scDD.buildbin-libdir StartedAt: 2024-10-15 20:07:55 -0400 (Tue, 15 Oct 2024) EndedAt: 2024-10-15 20:08:45 -0400 (Tue, 15 Oct 2024) EllapsedTime: 50.1 seconds RetCode: 0 Status: OK PackageFile: scDD_1.28.0.tgz PackageFileSize: 1021 KiB