Package: scDD Version: 1.28.0 Command: /Library/Frameworks/R.framework/Resources/bin/R CMD build --keep-empty-dirs --no-resave-data scDD StartedAt: 2024-10-17 08:32:21 -0400 (Thu, 17 Oct 2024) EndedAt: 2024-10-17 08:34:34 -0400 (Thu, 17 Oct 2024) EllapsedTime: 133.1 seconds RetCode: 0 Status: OK PackageFile: scDD_1.28.0.tar.gz PackageFileSize: 846.9 KiB