Package: scDD Version: 1.28.0 Command: /Library/Frameworks/R.framework/Resources/bin/R CMD build --keep-empty-dirs --no-resave-data scDD StartedAt: 2024-06-10 04:10:58 -0400 (Mon, 10 Jun 2024) EndedAt: 2024-06-10 04:14:10 -0400 (Mon, 10 Jun 2024) EllapsedTime: 192.6 seconds RetCode: 1 Status: ERROR PackageFile: None PackageFileSize: NA