Package: scDD Version: 1.28.0 Command: /home/biocbuild/R/R-beta-2024-04-15_r86425/bin/R CMD build --keep-empty-dirs --no-resave-data scDD StartedAt: 2024-05-09 03:20:06 -0000 (Thu, 09 May 2024) EndedAt: 2024-05-09 03:22:25 -0000 (Thu, 09 May 2024) EllapsedTime: 139.2 seconds RetCode: 0 Status: OK PackageFile: scDD_1.28.0.tar.gz PackageFileSize: 823 KiB