Package: scDD Version: 1.28.0 Command: /Library/Frameworks/R.framework/Resources/bin/R CMD build --keep-empty-dirs --no-resave-data scDD StartedAt: 2024-10-16 22:57:22 -0400 (Wed, 16 Oct 2024) EndedAt: 2024-10-16 23:03:02 -0400 (Wed, 16 Oct 2024) EllapsedTime: 340.3 seconds RetCode: 0 Status: OK PackageFile: scDD_1.28.0.tar.gz PackageFileSize: 846.9 KiB