Package: scDD Version: 1.28.0 Command: /Library/Frameworks/R.framework/Resources/bin/R CMD INSTALL scDD StartedAt: 2024-10-16 16:38:54 -0400 (Wed, 16 Oct 2024) EndedAt: 2024-10-16 16:40:18 -0400 (Wed, 16 Oct 2024) EllapsedTime: 83.2 seconds RetCode: 0 Status: OK