Package: scDD Version: 1.28.0 Command: chmod a+r scDD -R && F:\biocbuild\bbs-3.19-bioc\R\bin\R.exe CMD build --keep-empty-dirs --no-resave-data scDD StartedAt: 2024-06-26 21:42:24 -0400 (Wed, 26 Jun 2024) EndedAt: 2024-06-26 21:47:28 -0400 (Wed, 26 Jun 2024) EllapsedTime: 303.6 seconds RetCode: 0 Status: OK PackageFile: scDD_1.28.0.tar.gz PackageFileSize: 848.1 KiB