Package: scDD Version: 1.28.0 Command: rm -rf scDD.buildbin-libdir && mkdir scDD.buildbin-libdir && E:\biocbuild\bbs-3.19-bioc\R\bin\R.exe CMD INSTALL --build --library=scDD.buildbin-libdir scDD_1.28.0.tar.gz StartedAt: 2024-10-17 08:34:51 -0400 (Thu, 17 Oct 2024) EndedAt: 2024-10-17 08:35:39 -0400 (Thu, 17 Oct 2024) EllapsedTime: 47.6 seconds RetCode: 0 Status: OK PackageFile: scDD_1.28.0.zip PackageFileSize: 1.005 MiB