Package: scDD Version: 1.28.0 Command: E:\biocbuild\bbs-3.19-bioc\R\bin\R.exe CMD check --no-multiarch --install=check:scDD.install-out.txt --library=E:\biocbuild\bbs-3.19-bioc\R\library --no-vignettes --timings scDD_1.28.0.tar.gz StartedAt: 2024-10-17 05:25:42 -0400 (Thu, 17 Oct 2024) EndedAt: 2024-10-17 05:34:23 -0400 (Thu, 17 Oct 2024) EllapsedTime: 520.3 seconds RetCode: 0 Status: OK CheckDir: scDD.Rcheck Warnings: 0