Package: scDDboost Version: 1.6.0 Command: rm -rf scDDboost.buildbin-libdir && mkdir scDDboost.buildbin-libdir && /Users/biocbuild/BBS/utils/build-universal.sh scDDboost_1.6.0.tar.gz /Library/Frameworks/R.framework/Resources/bin/R scDDboost.buildbin-libdir StartedAt: 2024-10-15 20:08:24 -0400 (Tue, 15 Oct 2024) EndedAt: 2024-10-15 20:09:44 -0400 (Tue, 15 Oct 2024) EllapsedTime: 79.8 seconds RetCode: 0 Status: OK PackageFile: scDDboost_1.6.0.tgz PackageFileSize: 977.3 KiB