Package: scDDboost Version: 1.6.0 Command: /Library/Frameworks/R.framework/Resources/bin/R CMD check --install=check:scDDboost.install-out.txt --library=/Library/Frameworks/R.framework/Resources/library --no-vignettes --timings scDDboost_1.6.0.tar.gz StartedAt: 2024-10-18 11:10:15 -0400 (Fri, 18 Oct 2024) EndedAt: 2024-10-18 11:15:55 -0400 (Fri, 18 Oct 2024) EllapsedTime: 339.6 seconds RetCode: 0 Status: WARNINGS CheckDir: scDDboost.Rcheck Warnings: 1