Package: scDDboost Version: 1.6.0 Command: /home/biocbuild/R/R-beta-2024-04-15_r86425/bin/R CMD build --keep-empty-dirs --no-resave-data scDDboost StartedAt: 2024-05-09 03:20:09 -0000 (Thu, 09 May 2024) EndedAt: 2024-05-09 03:22:55 -0000 (Thu, 09 May 2024) EllapsedTime: 166.2 seconds RetCode: 0 Status: OK PackageFile: scDDboost_1.6.0.tar.gz PackageFileSize: 628.4 KiB