Package: scDDboost Version: 1.6.0 Command: /Library/Frameworks/R.framework/Resources/bin/R CMD build --keep-empty-dirs --no-resave-data scDDboost StartedAt: 2024-06-09 18:03:29 -0400 (Sun, 09 Jun 2024) EndedAt: 2024-06-09 18:05:09 -0400 (Sun, 09 Jun 2024) EllapsedTime: 100.2 seconds RetCode: 0 Status: OK PackageFile: scDDboost_1.6.0.tar.gz PackageFileSize: 856.4 KiB