Package: scDDboost Version: 1.6.0 Command: chmod a+r scDDboost -R && E:\biocbuild\bbs-3.19-bioc\R\bin\R.exe CMD build --keep-empty-dirs --no-resave-data scDDboost StartedAt: 2024-10-16 21:44:30 -0400 (Wed, 16 Oct 2024) EndedAt: 2024-10-16 21:46:48 -0400 (Wed, 16 Oct 2024) EllapsedTime: 137.9 seconds RetCode: 0 Status: OK PackageFile: scDDboost_1.6.0.tar.gz PackageFileSize: 544.2 KiB