Package: scFeatures Version: 1.4.0 Command: rm -rf scFeatures.buildbin-libdir && mkdir scFeatures.buildbin-libdir && E:\biocbuild\bbs-3.19-bioc\R\bin\R.exe CMD INSTALL --build --library=scFeatures.buildbin-libdir scFeatures_1.4.0.tar.gz StartedAt: 2024-10-17 08:35:16 -0400 (Thu, 17 Oct 2024) EndedAt: 2024-10-17 08:36:31 -0400 (Thu, 17 Oct 2024) EllapsedTime: 75.3 seconds RetCode: 0 Status: OK PackageFile: scFeatures_1.4.0.zip PackageFileSize: 3.02 MiB