Package: scGPS Version: 1.18.0 Command: /home/biocbuild/R/R-beta-2024-04-15_r86425/bin/R CMD build --keep-empty-dirs --no-resave-data scGPS StartedAt: 2024-05-09 03:22:12 -0000 (Thu, 09 May 2024) EndedAt: 2024-05-09 03:30:29 -0000 (Thu, 09 May 2024) EllapsedTime: 497.6 seconds RetCode: 0 Status: OK PackageFile: scGPS_1.18.0.tar.gz PackageFileSize: 1.974 MiB