Package: scGPS Version: 1.18.0 Command: chmod a+r scGPS -R && E:\biocbuild\bbs-3.19-bioc\R\bin\R.exe CMD build --keep-empty-dirs --no-resave-data scGPS StartedAt: 2024-10-16 21:45:27 -0400 (Wed, 16 Oct 2024) EndedAt: 2024-10-16 21:52:55 -0400 (Wed, 16 Oct 2024) EllapsedTime: 448.4 seconds RetCode: 0 Status: OK PackageFile: scGPS_1.18.0.tar.gz PackageFileSize: 1.909 MiB