Package: scHOT Version: 1.16.0 Maintainer: Shila Ghazanfar MaintainerEmail: shazanfar at gmail.com git_url: https://git.bioconductor.org/packages/scHOT git_branch: RELEASE_3_19 git_last_commit: 5e0fcbf git_last_commit_date: 2024-04-30 11:22:50 -0400 (Tue, 30 Apr 2024)