Package: scHOT Version: 1.16.0 Command: /home/biocbuild/R/R-beta-2024-04-15_r86425/bin/R CMD check --install=check:scHOT.install-out.txt --library=/home/biocbuild/R/R-beta-2024-04-15_r86425/site-library --no-vignettes --timings scHOT_1.16.0.tar.gz StartedAt: 2024-05-09 11:41:30 -0000 (Thu, 09 May 2024) EndedAt: 2024-05-09 11:47:19 -0000 (Thu, 09 May 2024) EllapsedTime: 349.6 seconds RetCode: 0 Status: OK CheckDir: scHOT.Rcheck Warnings: 0