Package: scHOT Version: 1.16.0 Command: rm -rf scHOT.buildbin-libdir && mkdir scHOT.buildbin-libdir && /Users/biocbuild/BBS/utils/build-universal.sh scHOT_1.16.0.tar.gz /Library/Frameworks/R.framework/Resources/bin/R scHOT.buildbin-libdir StartedAt: 2024-06-10 00:38:24 -0400 (Mon, 10 Jun 2024) EndedAt: 2024-06-10 00:39:04 -0400 (Mon, 10 Jun 2024) EllapsedTime: 40.3 seconds RetCode: 0 Status: OK PackageFile: scHOT_1.16.0.tgz PackageFileSize: 2.692 MiB