Package: scHOT Version: 1.16.0 Command: /Library/Frameworks/R.framework/Resources/bin/R CMD check --install=check:scHOT.install-out.txt --library=/Library/Frameworks/R.framework/Resources/library --no-vignettes --timings scHOT_1.16.0.tar.gz StartedAt: 2024-06-09 22:53:03 -0400 (Sun, 09 Jun 2024) EndedAt: 2024-06-09 22:57:51 -0400 (Sun, 09 Jun 2024) EllapsedTime: 287.3 seconds RetCode: 0 Status: OK CheckDir: scHOT.Rcheck Warnings: 0