Package: scHOT Version: 1.16.0 Command: /Library/Frameworks/R.framework/Resources/bin/R CMD INSTALL scHOT StartedAt: 2024-06-09 15:14:25 -0400 (Sun, 09 Jun 2024) EndedAt: 2024-06-09 15:15:02 -0400 (Sun, 09 Jun 2024) EllapsedTime: 36.4 seconds RetCode: 0 Status: OK