Package: scHOT Version: 1.16.0 Command: rm -rf scHOT.buildbin-libdir && mkdir scHOT.buildbin-libdir && F:\biocbuild\bbs-3.19-bioc\R\bin\R.exe CMD INSTALL --build --library=scHOT.buildbin-libdir scHOT_1.16.0.tar.gz StartedAt: 2024-06-27 08:52:49 -0400 (Thu, 27 Jun 2024) EndedAt: 2024-06-27 08:53:28 -0400 (Thu, 27 Jun 2024) EllapsedTime: 38.9 seconds RetCode: 0 Status: OK PackageFile: scHOT_1.16.0.zip PackageFileSize: 2.245 MiB