Package: scHOT Version: 1.16.0 Command: rm -rf scHOT.buildbin-libdir && mkdir scHOT.buildbin-libdir && E:\biocbuild\bbs-3.19-bioc\R\bin\R.exe CMD INSTALL --build --library=scHOT.buildbin-libdir scHOT_1.16.0.tar.gz StartedAt: 2024-10-17 08:35:29 -0400 (Thu, 17 Oct 2024) EndedAt: 2024-10-17 08:36:06 -0400 (Thu, 17 Oct 2024) EllapsedTime: 37.1 seconds RetCode: 0 Status: OK PackageFile: scHOT_1.16.0.zip PackageFileSize: 2.245 MiB