Package: scMET Version: 1.6.0 Maintainer: Andreas C. Kapourani MaintainerEmail: kapouranis.andreas at gmail.com git_url: https://git.bioconductor.org/packages/scMET git_branch: RELEASE_3_19 git_last_commit: f3a4cd8 git_last_commit_date: 2024-04-30 11:43:50 -0400 (Tue, 30 Apr 2024)