Package: scMET Version: 1.6.0 Command: rm -rf scMET.buildbin-libdir && mkdir scMET.buildbin-libdir && /Users/biocbuild/BBS/utils/build-universal.sh scMET_1.6.0.tar.gz /Library/Frameworks/R.framework/Resources/bin/R scMET.buildbin-libdir StartedAt: 2024-10-15 20:10:14 -0400 (Tue, 15 Oct 2024) EndedAt: 2024-10-15 20:12:25 -0400 (Tue, 15 Oct 2024) EllapsedTime: 131.9 seconds RetCode: 0 Status: OK PackageFile: scMET_1.6.0.tgz PackageFileSize: 4.032 MiB