Package: scMET Version: 1.6.0 Command: /Library/Frameworks/R.framework/Resources/bin/R CMD INSTALL scMET StartedAt: 2024-10-16 17:30:28 -0400 (Wed, 16 Oct 2024) EndedAt: 2024-10-16 17:32:14 -0400 (Wed, 16 Oct 2024) EllapsedTime: 105.4 seconds RetCode: 0 Status: OK