Package: scMET Version: 1.6.0 Command: /home/biocbuild/bbs-3.19-bioc/R/bin/R CMD INSTALL scMET StartedAt: 2024-10-16 16:21:12 -0400 (Wed, 16 Oct 2024) EndedAt: 2024-10-16 16:23:14 -0400 (Wed, 16 Oct 2024) EllapsedTime: 121.7 seconds RetCode: 0 Status: OK