Package: scMerge Version: 1.20.0 Command: rm -rf scMerge.buildbin-libdir && mkdir scMerge.buildbin-libdir && E:\biocbuild\bbs-3.19-bioc\R\bin\R.exe CMD INSTALL --build --library=scMerge.buildbin-libdir scMerge_1.20.0.tar.gz StartedAt: 2024-10-17 08:35:36 -0400 (Thu, 17 Oct 2024) EndedAt: 2024-10-17 08:36:29 -0400 (Thu, 17 Oct 2024) EllapsedTime: 52.4 seconds RetCode: 0 Status: OK PackageFile: scMerge_1.20.0.zip PackageFileSize: 2.671 MiB