Package: scMerge Version: 1.20.0 Command: chmod a+r scMerge -R && E:\biocbuild\bbs-3.19-bioc\R\bin\R.exe CMD build --keep-empty-dirs --no-resave-data scMerge StartedAt: 2024-10-16 21:46:47 -0400 (Wed, 16 Oct 2024) EndedAt: 2024-10-16 21:50:15 -0400 (Wed, 16 Oct 2024) EllapsedTime: 208.3 seconds RetCode: 0 Status: OK PackageFile: scMerge_1.20.0.tar.gz PackageFileSize: 2.561 MiB