Package: scMerge Version: 1.20.0 Command: E:\biocbuild\bbs-3.19-bioc\R\bin\R.exe CMD check --no-multiarch --install=check:scMerge.install-out.txt --library=E:\biocbuild\bbs-3.19-bioc\R\library --no-vignettes --timings scMerge_1.20.0.tar.gz StartedAt: 2024-10-17 05:30:05 -0400 (Thu, 17 Oct 2024) EndedAt: 2024-10-17 05:38:58 -0400 (Thu, 17 Oct 2024) EllapsedTime: 533.8 seconds RetCode: 0 Status: OK CheckDir: scMerge.Rcheck Warnings: 0