Package: scMerge Version: 1.20.0 Command: E:\biocbuild\bbs-3.19-bioc\R\bin\R.exe CMD INSTALL scMerge StartedAt: 2024-10-16 17:14:17 -0400 (Wed, 16 Oct 2024) EndedAt: 2024-10-16 17:15:11 -0400 (Wed, 16 Oct 2024) EllapsedTime: 54.5 seconds RetCode: 0 Status: OK