Package: scPCA Version: 1.18.0 Maintainer: Philippe Boileau MaintainerEmail: philippe_boileau at berkeley.edu git_url: https://git.bioconductor.org/packages/scPCA git_branch: RELEASE_3_19 git_last_commit: 6e7f916 git_last_commit_date: 2024-04-30 11:18:48 -0400 (Tue, 30 Apr 2024)