Package: scPCA Version: 1.18.0 Command: rm -rf scPCA.buildbin-libdir && mkdir scPCA.buildbin-libdir && /Users/biocbuild/BBS/utils/build-universal.sh scPCA_1.18.0.tar.gz /Library/Frameworks/R.framework/Resources/bin/R scPCA.buildbin-libdir StartedAt: 2024-10-15 20:12:21 -0400 (Tue, 15 Oct 2024) EndedAt: 2024-10-15 20:12:53 -0400 (Tue, 15 Oct 2024) EllapsedTime: 31.7 seconds RetCode: 0 Status: OK PackageFile: scPCA_1.18.0.tgz PackageFileSize: 2.083 MiB