Package: scPCA Version: 1.18.0 Command: /Library/Frameworks/R.framework/Resources/bin/R CMD build --keep-empty-dirs --no-resave-data scPCA StartedAt: 2024-10-17 08:44:33 -0400 (Thu, 17 Oct 2024) EndedAt: 2024-10-17 08:50:43 -0400 (Thu, 17 Oct 2024) EllapsedTime: 370.6 seconds RetCode: 0 Status: OK PackageFile: scPCA_1.18.0.tar.gz PackageFileSize: 2.055 MiB