Package: scPCA Version: 1.18.0 Command: /Library/Frameworks/R.framework/Resources/bin/R CMD INSTALL scPCA StartedAt: 2024-10-16 18:22:54 -0400 (Wed, 16 Oct 2024) EndedAt: 2024-10-16 18:23:25 -0400 (Wed, 16 Oct 2024) EllapsedTime: 30.9 seconds RetCode: 0 Status: OK