Package: scPCA Version: 1.18.0 Command: rm -rf scPCA.buildbin-libdir && mkdir scPCA.buildbin-libdir && /Users/biocbuild/BBS/utils/build-universal.sh scPCA_1.18.0.tar.gz /Library/Frameworks/R.framework/Resources/bin/R scPCA.buildbin-libdir StartedAt: 2024-06-10 00:38:47 -0400 (Mon, 10 Jun 2024) EndedAt: 2024-06-10 00:39:18 -0400 (Mon, 10 Jun 2024) EllapsedTime: 30.5 seconds RetCode: 0 Status: OK PackageFile: scPCA_1.18.0.tgz PackageFileSize: 2.073 MiB