Package: scPCA Version: 1.18.0 Command: rm -rf scPCA.buildbin-libdir && mkdir scPCA.buildbin-libdir && /Users/biocbuild/BBS/utils/build-universal.sh scPCA_1.18.0.tar.gz /Library/Frameworks/R.framework/Resources/bin/R scPCA.buildbin-libdir StartedAt: 2024-10-17 17:08:45 -0400 (Thu, 17 Oct 2024) EndedAt: 2024-10-17 17:09:38 -0400 (Thu, 17 Oct 2024) EllapsedTime: 53.5 seconds RetCode: 0 Status: OK PackageFile: scPCA_1.18.0.tgz PackageFileSize: 2.081 MiB