Package: scPCA Version: 1.18.0 Command: /Library/Frameworks/R.framework/Resources/bin/R CMD INSTALL scPCA StartedAt: 2024-10-16 16:33:24 -0400 (Wed, 16 Oct 2024) EndedAt: 2024-10-16 16:34:29 -0400 (Wed, 16 Oct 2024) EllapsedTime: 64.9 seconds RetCode: 0 Status: OK