Package: scPCA Version: 1.18.0 Command: chmod a+r scPCA -R && F:\biocbuild\bbs-3.19-bioc\R\bin\R.exe CMD build --keep-empty-dirs --no-resave-data scPCA StartedAt: 2024-06-26 21:47:24 -0400 (Wed, 26 Jun 2024) EndedAt: 2024-06-26 21:53:18 -0400 (Wed, 26 Jun 2024) EllapsedTime: 354.0 seconds RetCode: 0 Status: OK PackageFile: scPCA_1.18.0.tar.gz PackageFileSize: 873.1 KiB