Package: scPCA Version: 1.18.0 Command: rm -rf scPCA.buildbin-libdir && mkdir scPCA.buildbin-libdir && E:\biocbuild\bbs-3.19-bioc\R\bin\R.exe CMD INSTALL --build --library=scPCA.buildbin-libdir scPCA_1.18.0.tar.gz StartedAt: 2024-10-17 08:36:07 -0400 (Thu, 17 Oct 2024) EndedAt: 2024-10-17 08:36:36 -0400 (Thu, 17 Oct 2024) EllapsedTime: 29.1 seconds RetCode: 0 Status: OK PackageFile: scPCA_1.18.0.zip PackageFileSize: 907.8 KiB