Package: scPCA Version: 1.18.0 Command: chmod a+r scPCA -R && E:\biocbuild\bbs-3.19-bioc\R\bin\R.exe CMD build --keep-empty-dirs --no-resave-data scPCA StartedAt: 2024-10-16 21:49:10 -0400 (Wed, 16 Oct 2024) EndedAt: 2024-10-16 21:55:49 -0400 (Wed, 16 Oct 2024) EllapsedTime: 399.2 seconds RetCode: 0 Status: OK PackageFile: scPCA_1.18.0.tar.gz PackageFileSize: 871.6 KiB