Package: scPCA Version: 1.18.0 Command: E:\biocbuild\bbs-3.19-bioc\R\bin\R.exe CMD check --no-multiarch --install=check:scPCA.install-out.txt --library=E:\biocbuild\bbs-3.19-bioc\R\library --no-vignettes --timings scPCA_1.18.0.tar.gz StartedAt: 2024-10-17 05:32:49 -0400 (Thu, 17 Oct 2024) EndedAt: 2024-10-17 05:36:18 -0400 (Thu, 17 Oct 2024) EllapsedTime: 208.6 seconds RetCode: 0 Status: OK CheckDir: scPCA.Rcheck Warnings: 0