Package: scPCA Version: 1.18.0 Command: E:\biocbuild\bbs-3.19-bioc\R\bin\R.exe CMD INSTALL scPCA StartedAt: 2024-10-16 17:09:48 -0400 (Wed, 16 Oct 2024) EndedAt: 2024-10-16 17:10:25 -0400 (Wed, 16 Oct 2024) EllapsedTime: 36.5 seconds RetCode: 0 Status: OK