Package: scRNAseqApp Version: 1.4.0 Command: rm -rf scRNAseqApp.buildbin-libdir && mkdir scRNAseqApp.buildbin-libdir && /Users/biocbuild/BBS/utils/build-universal.sh scRNAseqApp_1.4.0.tar.gz /Library/Frameworks/R.framework/Resources/bin/R scRNAseqApp.buildbin-libdir StartedAt: 2024-10-15 20:13:09 -0400 (Tue, 15 Oct 2024) EndedAt: 2024-10-15 20:14:36 -0400 (Tue, 15 Oct 2024) EllapsedTime: 86.3 seconds RetCode: 0 Status: OK PackageFile: scRNAseqApp_1.4.0.tgz PackageFileSize: 3.444 MiB