Package: scRNAseqApp Version: 1.4.0 Command: /Library/Frameworks/R.framework/Resources/bin/R CMD check --install=check:scRNAseqApp.install-out.txt --library=/Library/Frameworks/R.framework/Resources/library --no-vignettes --timings scRNAseqApp_1.4.0.tar.gz StartedAt: 2024-10-18 11:41:22 -0400 (Fri, 18 Oct 2024) EndedAt: 2024-10-18 11:49:25 -0400 (Fri, 18 Oct 2024) EllapsedTime: 482.9 seconds RetCode: 0 Status: OK CheckDir: scRNAseqApp.Rcheck Warnings: 0